BEGIN:VCALENDAR
PRODID:Nexudus
VERSION:2.0
BEGIN:VTIMEZONE
TZID:America/New_York
X-LIC-LOCATION:America/New_York
BEGIN:STANDARD
DTSTART:20241103T020000
RRULE:FREQ=YEARLY;BYDAY=1SU;BYMONTH=11
TZNAME:EST
TZOFFSETFROM:-0400
TZOFFSETTO:-0500
END:STANDARD
BEGIN:DAYLIGHT
DTSTART:20250309T020000
RRULE:FREQ=YEARLY;BYDAY=2SU;BYMONTH=3
TZNAME:EDT
TZOFFSETFROM:-0500
TZOFFSETTO:-0400
END:DAYLIGHT
END:VTIMEZONE
BEGIN:VEVENT
DESCRIPTION:Learn about legal issues important to your business and meet on
 e-on-one with an attorney to get FREE legal advice for your business!\nEve
 nt link: https://www.bronxcookspace.org/en/events/view/579752419/free-lega
 l-advice-for-your-small-business\n
DTEND;TZID=America/New_York:20180627T120000
DTSTAMP:20260422T191914Z
DTSTART;TZID=America/New_York:20180627T100000
LOCATION:WHEDco
SEQUENCE:0
SUMMARY:Free Legal Advice for Your Small Business
UID:e0583a25-07ef-4a1d-8440-fa7f2edfd261
END:VEVENT
END:VCALENDAR
