BEGIN:VCALENDAR
PRODID:Nexudus
VERSION:2.0
BEGIN:VTIMEZONE
TZID:America/New_York
X-LIC-LOCATION:America/New_York
BEGIN:STANDARD
DTSTART:20241103T020000
RRULE:FREQ=YEARLY;BYDAY=1SU;BYMONTH=11
TZNAME:EST
TZOFFSETFROM:-0400
TZOFFSETTO:-0500
END:STANDARD
BEGIN:DAYLIGHT
DTSTART:20250309T020000
RRULE:FREQ=YEARLY;BYDAY=2SU;BYMONTH=3
TZNAME:EDT
TZOFFSETFROM:-0500
TZOFFSETTO:-0400
END:DAYLIGHT
END:VTIMEZONE
BEGIN:VEVENT
DESCRIPTION:Learn how to improve your credit and its impact on your busines
 s through this workshop and one-on-one sessions with a certified financial
  counselor.\nEvent link: https://www.bronxcookspace.org/en/events/view/602
 419020/we-master-money--credit\n
DTEND;TZID=America/New_York:20180522T200000
DTSTAMP:20260422T194129Z
DTSTART;TZID=America/New_York:20180522T180000
LOCATION:WHEDco
SEQUENCE:0
SUMMARY:We Master Money: Credit
UID:18d21eac-5a1c-4266-aae2-38179641afd9
END:VEVENT
END:VCALENDAR
