BEGIN:VCALENDAR
PRODID:Nexudus
VERSION:2.0
BEGIN:VTIMEZONE
TZID:America/New_York
X-LIC-LOCATION:America/New_York
BEGIN:STANDARD
DTSTART:20241103T020000
RRULE:FREQ=YEARLY;BYDAY=1SU;BYMONTH=11
TZNAME:EST
TZOFFSETFROM:-0400
TZOFFSETTO:-0500
END:STANDARD
BEGIN:DAYLIGHT
DTSTART:20250309T020000
RRULE:FREQ=YEARLY;BYDAY=2SU;BYMONTH=3
TZNAME:EDT
TZOFFSETFROM:-0500
TZOFFSETTO:-0400
END:DAYLIGHT
END:VTIMEZONE
BEGIN:VEVENT
DESCRIPTION:Sign up for a free 45-minute business coaching session with Gol
 dman Sachs!\nEvent link: https://www.bronxcookspace.org/en/events/view/665
 856504/goldman-sachs-business-coaching-day\n
DTEND;TZID=America/New_York:20180912T171500
DTSTAMP:20260422T190229Z
DTSTART;TZID=America/New_York:20180912T103000
LOCATION:Bronx CookSpace
SEQUENCE:0
SUMMARY:Goldman Sachs Business Coaching Day
UID:7daed7c8-4e05-487a-9018-d207ef6d7356
END:VEVENT
END:VCALENDAR
