BEGIN:VCALENDAR
PRODID:Nexudus
VERSION:2.0
BEGIN:VTIMEZONE
TZID:America/New_York
X-LIC-LOCATION:America/New_York
BEGIN:STANDARD
DTSTART:20241103T020000
RRULE:FREQ=YEARLY;BYDAY=1SU;BYMONTH=11
TZNAME:EST
TZOFFSETFROM:-0400
TZOFFSETTO:-0500
END:STANDARD
BEGIN:DAYLIGHT
DTSTART:20250309T020000
RRULE:FREQ=YEARLY;BYDAY=2SU;BYMONTH=3
TZNAME:EDT
TZOFFSETFROM:-0500
TZOFFSETTO:-0400
END:DAYLIGHT
END:VTIMEZONE
BEGIN:VEVENT
DESCRIPTION:Join Bronx CookSpace and Ed Chang of Sweet Technology to learn 
 best practices\, tips\, strategies\, and resources that will help you stre
 amline your business.\nEvent link: https://www.bronxcookspace.org/en/event
 s/view/665856505/inventory-management-workshop\n
DTEND;TZID=America/New_York:20180918T200000
DTSTAMP:20260422T191413Z
DTSTART;TZID=America/New_York:20180918T183000
LOCATION:Bronx CookSpace
SEQUENCE:0
SUMMARY:Inventory Management Workshop
UID:0f653ddc-e58a-411e-aa09-1a8b89c3dbd5
END:VEVENT
END:VCALENDAR
