BEGIN:VCALENDAR
PRODID:Nexudus
VERSION:2.0
BEGIN:VTIMEZONE
TZID:America/New_York
X-LIC-LOCATION:America/New_York
BEGIN:STANDARD
DTSTART:20241103T020000
RRULE:FREQ=YEARLY;BYDAY=1SU;BYMONTH=11
TZNAME:EST
TZOFFSETFROM:-0400
TZOFFSETTO:-0500
END:STANDARD
BEGIN:DAYLIGHT
DTSTART:20250309T020000
RRULE:FREQ=YEARLY;BYDAY=2SU;BYMONTH=3
TZNAME:EDT
TZOFFSETFROM:-0500
TZOFFSETTO:-0400
END:DAYLIGHT
END:VTIMEZONE
BEGIN:VEVENT
DESCRIPTION:Learn how to create a marketing strategy to attract more custom
 ers.\nEvent link: https://www.bronxcookspace.org/en/events/view/739150419/
 introduction-to-marketing\n
DTEND;TZID=America/New_York:20181024T200000
DTSTAMP:20260422T193442Z
DTSTART;TZID=America/New_York:20181024T180000
LOCATION:WHEDco
SEQUENCE:0
SUMMARY:Introduction to Marketing
UID:9c79e2a5-cdc4-42ca-8929-52b3b012fd44
END:VEVENT
END:VCALENDAR
