BEGIN:VCALENDAR
PRODID:Nexudus
VERSION:2.0
BEGIN:VTIMEZONE
TZID:America/New_York
X-LIC-LOCATION:America/New_York
BEGIN:STANDARD
DTSTART:20241103T020000
RRULE:FREQ=YEARLY;BYDAY=1SU;BYMONTH=11
TZNAME:EST
TZOFFSETFROM:-0400
TZOFFSETTO:-0500
END:STANDARD
BEGIN:DAYLIGHT
DTSTART:20250309T020000
RRULE:FREQ=YEARLY;BYDAY=2SU;BYMONTH=3
TZNAME:EDT
TZOFFSETFROM:-0500
TZOFFSETTO:-0400
END:DAYLIGHT
END:VTIMEZONE
BEGIN:VEVENT
DESCRIPTION:Meet one-on-one with a lawyer to receive FREE legal advice for 
 your business!\nEvent link: https://www.bronxcookspace.org/en/events/view/
 739150421/get-legal-advice-from-a-business-lawyer\n
DTEND;TZID=America/New_York:20181211T200000
DTSTAMP:20260422T192437Z
DTSTART;TZID=America/New_York:20181211T180000
LOCATION:WHEDco
SEQUENCE:0
SUMMARY:Get Legal Advice from a Business Lawyer
UID:077a707a-540c-4114-aebd-406c373c5858
END:VEVENT
END:VCALENDAR
