BEGIN:VCALENDAR
PRODID:Nexudus
VERSION:2.0
BEGIN:VTIMEZONE
TZID:America/New_York
X-LIC-LOCATION:America/New_York
BEGIN:STANDARD
DTSTART:20241103T020000
RRULE:FREQ=YEARLY;BYDAY=1SU;BYMONTH=11
TZNAME:EST
TZOFFSETFROM:-0400
TZOFFSETTO:-0500
END:STANDARD
BEGIN:DAYLIGHT
DTSTART:20250309T020000
RRULE:FREQ=YEARLY;BYDAY=2SU;BYMONTH=3
TZNAME:EDT
TZOFFSETFROM:-0500
TZOFFSETTO:-0400
END:DAYLIGHT
END:VTIMEZONE
BEGIN:VEVENT
DESCRIPTION:The Good Food Spotlight is an interactive food business worksho
 p. Join us to tackle business growth challenges with other good food entre
 preneurs\, meet Slow Money NYC impact investors\, and network with the loc
 al food movement community. Each entrepreneur presents a business challeng
 e and receives feedback from investors and experts.\n\n\n\nEvent link: htt
 ps://www.bronxcookspace.org/en/events/view/992321435/good-food-spotlight\n
DTEND;TZID=America/New_York:20190513T210000
DTSTAMP:20260422T192220Z
DTSTART;TZID=America/New_York:20190513T183000
LOCATION:Bronx CookSpace
SEQUENCE:0
SUMMARY:Good Food Spotlight
UID:4f97b8ef-3779-4c89-b3fd-a5829f3bfeda
END:VEVENT
END:VCALENDAR
